BEGIN:VCALENDAR
VERSION:2.0
PRODID:-//Bennett&#039;s Greenhouse - ECPv6.15.20//NONSGML v1.0//EN
CALSCALE:GREGORIAN
METHOD:PUBLISH
X-WR-CALNAME:Bennett&#039;s Greenhouse
X-ORIGINAL-URL:https://bennettsgreenhouse.com
X-WR-CALDESC:Events for Bennett&#039;s Greenhouse
REFRESH-INTERVAL;VALUE=DURATION:PT1H
X-Robots-Tag:noindex
X-PUBLISHED-TTL:PT1H
BEGIN:VTIMEZONE
TZID:America/New_York
BEGIN:DAYLIGHT
TZOFFSETFROM:-0500
TZOFFSETTO:-0400
TZNAME:EDT
DTSTART:20250309T070000
END:DAYLIGHT
BEGIN:STANDARD
TZOFFSETFROM:-0400
TZOFFSETTO:-0500
TZNAME:EST
DTSTART:20251102T060000
END:STANDARD
BEGIN:DAYLIGHT
TZOFFSETFROM:-0500
TZOFFSETTO:-0400
TZNAME:EDT
DTSTART:20260308T070000
END:DAYLIGHT
BEGIN:STANDARD
TZOFFSETFROM:-0400
TZOFFSETTO:-0500
TZNAME:EST
DTSTART:20261101T060000
END:STANDARD
BEGIN:DAYLIGHT
TZOFFSETFROM:-0500
TZOFFSETTO:-0400
TZNAME:EDT
DTSTART:20270314T070000
END:DAYLIGHT
BEGIN:STANDARD
TZOFFSETFROM:-0400
TZOFFSETTO:-0500
TZNAME:EST
DTSTART:20271107T060000
END:STANDARD
END:VTIMEZONE
BEGIN:VEVENT
DTSTART;TZID=America/New_York:20260425T110000
DTEND;TZID=America/New_York:20260425T130000
DTSTAMP:20260424T050014
CREATED:20260310T180017Z
LAST-MODIFIED:20260311T155824Z
UID:10000123-1777114800-1777122000@bennettsgreenhouse.com
SUMMARY:🌱 Plant Bingo Brunch 🌱
DESCRIPTION:Calling all plant lovers — you’re invited to a cozy\, green-filled brunch designed to help you grow your plant knowledge while having a little fun 💚 We are excited to have Krystal Duran from PlantswithKrystal as our bingo host and brunch served by BT Humbles Catering! \nJoin us for a relaxed brunch featuring 20 rounds of Plant Bingo\, complete with plant trivia and education/care tips throughout the event. Whether you’re a seasoned plant parent or just starting out\, you’ll leave with useful knowledge and plant prizes!🌿 \n✨ What’s included with your ticket: \n🌿 Plant education & care tips throughout the event\n🥂 One free mimosa \n🎉 Bingo is FREE to play! MUST HAVE A TICKET TO ENTER- LIMITED SPACE CAPACITY. \n🍽️ Brunch food is available for purchase from our friends from BT Humbles Catering. \n🥂 Mimosas will be poured by our friends from Thieme and Wagner Brewery. \nCome for the learning\, stay for the fun — and enjoy chances to win planty prizes along the way. \n🗓️ Saturday\, April 25th\n⏰ 11am-1pm\n📍 Bennett’s Greenhouse \nGood food\, good drinks\, and good plant energy — we can’t wait to bingo brunch with you 🌿✨
URL:https://bennettsgreenhouse.com/event/%f0%9f%8c%b1-plant-bingo-brunch-2%f0%9f%8c%b1/
CATEGORIES:Event
ATTACH;FMTTYPE=image/png:https://bennettsgreenhouse.com/wp-content/uploads/2026/03/Plant-Bingo-Brunch-Flyer-April-2026-1-scaled.png
END:VEVENT
END:VCALENDAR