BEGIN:VCALENDAR
VERSION:2.0
PRODID:-//Bennett&#039;s Greenhouse - ECPv6.15.20//NONSGML v1.0//EN
CALSCALE:GREGORIAN
METHOD:PUBLISH
X-WR-CALNAME:Bennett&#039;s Greenhouse
X-ORIGINAL-URL:https://bennettsgreenhouse.com
X-WR-CALDESC:Events for Bennett&#039;s Greenhouse
REFRESH-INTERVAL;VALUE=DURATION:PT1H
X-Robots-Tag:noindex
X-PUBLISHED-TTL:PT1H
BEGIN:VTIMEZONE
TZID:America/New_York
BEGIN:DAYLIGHT
TZOFFSETFROM:-0500
TZOFFSETTO:-0400
TZNAME:EDT
DTSTART:20240310T070000
END:DAYLIGHT
BEGIN:STANDARD
TZOFFSETFROM:-0400
TZOFFSETTO:-0500
TZNAME:EST
DTSTART:20241103T060000
END:STANDARD
BEGIN:DAYLIGHT
TZOFFSETFROM:-0500
TZOFFSETTO:-0400
TZNAME:EDT
DTSTART:20250309T070000
END:DAYLIGHT
BEGIN:STANDARD
TZOFFSETFROM:-0400
TZOFFSETTO:-0500
TZNAME:EST
DTSTART:20251102T060000
END:STANDARD
BEGIN:DAYLIGHT
TZOFFSETFROM:-0500
TZOFFSETTO:-0400
TZNAME:EDT
DTSTART:20260308T070000
END:DAYLIGHT
BEGIN:STANDARD
TZOFFSETFROM:-0400
TZOFFSETTO:-0500
TZNAME:EST
DTSTART:20261101T060000
END:STANDARD
BEGIN:DAYLIGHT
TZOFFSETFROM:-0500
TZOFFSETTO:-0400
TZNAME:EDT
DTSTART:20270314T070000
END:DAYLIGHT
BEGIN:STANDARD
TZOFFSETFROM:-0400
TZOFFSETTO:-0500
TZNAME:EST
DTSTART:20271107T060000
END:STANDARD
END:VTIMEZONE
BEGIN:VEVENT
DTSTART;TZID=America/New_York:20260425T110000
DTEND;TZID=America/New_York:20260425T130000
DTSTAMP:20260424T094856
CREATED:20260310T180017Z
LAST-MODIFIED:20260311T155824Z
UID:10000123-1777114800-1777122000@bennettsgreenhouse.com
SUMMARY:🌱 Plant Bingo Brunch 🌱
DESCRIPTION:Calling all plant lovers — you’re invited to a cozy\, green-filled brunch designed to help you grow your plant knowledge while having a little fun 💚 We are excited to have Krystal Duran from PlantswithKrystal as our bingo host and brunch served by BT Humbles Catering! \nJoin us for a relaxed brunch featuring 20 rounds of Plant Bingo\, complete with plant trivia and education/care tips throughout the event. Whether you’re a seasoned plant parent or just starting out\, you’ll leave with useful knowledge and plant prizes!🌿 \n✨ What’s included with your ticket: \n🌿 Plant education & care tips throughout the event\n🥂 One free mimosa \n🎉 Bingo is FREE to play! MUST HAVE A TICKET TO ENTER- LIMITED SPACE CAPACITY. \n🍽️ Brunch food is available for purchase from our friends from BT Humbles Catering. \n🥂 Mimosas will be poured by our friends from Thieme and Wagner Brewery. \nCome for the learning\, stay for the fun — and enjoy chances to win planty prizes along the way. \n🗓️ Saturday\, April 25th\n⏰ 11am-1pm\n📍 Bennett’s Greenhouse \nGood food\, good drinks\, and good plant energy — we can’t wait to bingo brunch with you 🌿✨
URL:https://bennettsgreenhouse.com/event/%f0%9f%8c%b1-plant-bingo-brunch-2%f0%9f%8c%b1/
CATEGORIES:Event
ATTACH;FMTTYPE=image/png:https://bennettsgreenhouse.com/wp-content/uploads/2026/03/Plant-Bingo-Brunch-Flyer-April-2026-1-scaled.png
END:VEVENT
BEGIN:VEVENT
DTSTART;TZID=America/New_York:20260328T140000
DTEND;TZID=America/New_York:20260328T150000
DTSTAMP:20260424T094856
CREATED:20260225T214916Z
LAST-MODIFIED:20260225T215405Z
UID:10000122-1774706400-1774710000@bennettsgreenhouse.com
SUMMARY:🌸🎨 Kids Garden Stepping Stone Painting & Pansy Planting Party! 🌱🌼
DESCRIPTION:Join us for a fun-filled afternoon of creativity and gardening! \n🗓 Saturday\, March 28th\n⏰ 2:00 PM – 3:00 PM \nLet your little gardeners get their hands dirty and their creativity flowing! During this hands-on workshop\, kids will: \n🎨 Paint and decorate their very own garden stepping stone\n🌼 Plant a beautiful\, colorful pansy to take home\n🌱 Learn simple gardening tips while having tons of fun \nThis is the perfect spring activity to spark creativity\, encourage outdoor play\, and give kids something special to proudly display in the garden. \nAll supplies are included — just bring your imagination (and clothes that can get a little messy)! \nSpots are limited\, so be sure to reserve yours soon! 🌷✨
URL:https://bennettsgreenhouse.com/event/%f0%9f%8c%b8%f0%9f%8e%a8-kids-garden-stepping-stone-painting-pansy-planting-party-%f0%9f%8c%b1%f0%9f%8c%bc/
CATEGORIES:Event,Workshops
ATTACH;FMTTYPE=image/webp:https://bennettsgreenhouse.com/wp-content/uploads/2026/02/Kids-Paint-and-Plant-7e1f8ad.webp
END:VEVENT
BEGIN:VEVENT
DTSTART;TZID=America/New_York:20260321T110000
DTEND;TZID=America/New_York:20260321T130000
DTSTAMP:20260424T094856
CREATED:20260130T221233Z
LAST-MODIFIED:20260131T223231Z
UID:10000121-1774090800-1774098000@bennettsgreenhouse.com
SUMMARY:🌱 Plant Bingo Brunch 🌱
DESCRIPTION:Calling all plant lovers — you’re invited to a cozy\, green-filled brunch designed to help you grow your plant knowledge while having a little fun 💚 We are excited to have Krystal Duran from PlantswithKrystal as our bingo host and brunch served by The Homestead! \nJoin us for a relaxed brunch featuring 20 rounds of Plant Bingo\, complete with plant trivia and education/care tips throughout the event. Whether you’re a seasoned plant parent or just starting out\, you’ll leave with useful knowledge and plant prizes!🌿 \n✨ What’s included with your ticket: \n🌿 Plant education & care tips throughout the event\n🥂 One free mimosa \n🎉 Bingo is FREE to play! \n🍽️ Brunch food is available for purchase from our friends from The Homestead \n🥂 Mimosas will be poured by our friends from Thieme and Wagner Brewery \nCome for the learning\, stay for the fun — and enjoy chances to win planty prizes along the way. \n🗓️ Saturday\, March 21st\n⏰ 11am-1pm\n📍 Bennett’s Greenhouse \nGood food\, good drinks\, and good plant energy — we can’t wait to bingo brunch with you 🌿✨
URL:https://bennettsgreenhouse.com/event/%f0%9f%8c%b1-plant-bingo-brunch-%f0%9f%8c%b1/
CATEGORIES:Event,Workshops
ATTACH;FMTTYPE=image/jpeg:https://bennettsgreenhouse.com/wp-content/uploads/2026/01/76c81076-965f-4694-8f54-e6f3e3bba102.jpg
END:VEVENT
BEGIN:VEVENT
DTSTART;TZID=America/New_York:20260213T180000
DTEND;TZID=America/New_York:20260213T190000
DTSTAMP:20260424T094856
CREATED:20260113T185952Z
LAST-MODIFIED:20260202T164954Z
UID:10000119-1771005600-1771009200@bennettsgreenhouse.com
SUMMARY:Galentine’s Day at Bennett’s Greenhouse 💖
DESCRIPTION:Grab your best gals and join us for a sweet night of flowers\, wine\, and friendship! \nWe’re teaming up with Wildcat Creek Winery for a *Flower Arrangement in a Wine Glass Workshop*—the perfect way to celebrate Galentine’s Day. \n🗓 Friday\, February 13\n⏰ 6:00–7:00 PM\n📍 Bennett’s Greenhouse \n✨ What’s Included:\n🌸 Guided flower arrangement workshop (designed in a wine glass!)\n🧀 Charcuterie-style snacks\n🍷 Wine available by the glass for purchase from Wildcat Creek Winery \n🎟 Tickets: $45 \nSpots are limited—gather your gals and treat yourselves to a night of creativity and fun! 💐💕
URL:https://bennettsgreenhouse.com/event/galentines-day-at-bennetts-greenhouse-%f0%9f%92%96/
CATEGORIES:Event,Workshops
ATTACH;FMTTYPE=image/webp:https://bennettsgreenhouse.com/wp-content/uploads/2026/01/Galentines-Day-Flyer-2025-scaled.webp
END:VEVENT
BEGIN:VEVENT
DTSTART;TZID=America/New_York:20260208T130000
DTEND;TZID=America/New_York:20260208T140000
DTSTAMP:20260424T094856
CREATED:20260130T175332Z
LAST-MODIFIED:20260130T175332Z
UID:10000120-1770555600-1770559200@bennettsgreenhouse.com
SUMMARY:🌱 Seed Starting 101 Workshop 🌱
DESCRIPTION:Starting seeds in your home doesn’t need to be a mystery. This one-hour workshop will teach you the basics of sowing seeds at home including: soil mixes\, tray options\, deciphering seed packets and tips for successful germination. \n🌱 Seed Starting 101 Workshop 🌱\n📅 February 8\n⏰ 1:00–2:00 PM\n💲 $20 per person\n👩‍🌾 Seats are limited! \n✨ What’s included: \n\nSow seeds during class and take them home 🌼\nExpert tips to boost your seed-starting success\nA 10% off coupon for an entire purchase to stock up on seed-sowing supplies 🛒\n\nPerfect for beginners or anyone looking to grow with confidence this season. 🌞🌿\nReserve your spot early—spaces fill fast!
URL:https://bennettsgreenhouse.com/event/%f0%9f%8c%b1-seed-starting-101-workshop-%f0%9f%8c%b1/
LOCATION:Bennett’s Greenhouse – 3651 McCarty Lane\, Lafayette IN\, 47905\, 3651 McCarty Lane\, Lafayette\, IN\, 47905\, United States
CATEGORIES:Event,Workshops
ATTACH;FMTTYPE=image/jpeg:https://bennettsgreenhouse.com/wp-content/uploads/2026/01/Seed-Starting-101.jpg
END:VEVENT
BEGIN:VEVENT
DTSTART;TZID=America/New_York:20251219T173000
DTEND;TZID=America/New_York:20251219T193000
DTSTAMP:20260424T094857
CREATED:20251208T164749Z
LAST-MODIFIED:20251208T164934Z
UID:10000108-1766165400-1766172600@bennettsgreenhouse.com
SUMMARY:🎄 Holiday Centerpiece Workshop at Bennett’s Greenhouse! 🎄
DESCRIPTION:Get into the holiday spirit and create a stunning centerpiece for your table! Join us for a hands-on workshop where you’ll design your own festive arrangement using fresh evergreen pieces\, your choice of carnations or roses\, and a beautiful candle to top it all off. \n✨ What’s included: \n\nAll centerpiece materials\nFresh florals & greenery\nCandle for your design\nDelicious snacks included with your ticket\n\n🍷 Wine will be available for purchase to sip while you craft! \nGather your friends\, enjoy a cozy evening in the greenhouse\, and leave with a holiday masterpiece made by you.\nTickets are limited—reserve your spot today!
URL:https://bennettsgreenhouse.com/event/%f0%9f%8e%84-holiday-centerpiece-workshop-at-bennetts-greenhouse-%f0%9f%8e%84/
LOCATION:Bennett’s Greenhouse – 3651 McCarty Lane\, Lafayette IN\, 47905\, 3651 McCarty Lane\, Lafayette\, IN\, 47905\, United States
CATEGORIES:Event,Workshops
ATTACH;FMTTYPE=image/webp:https://bennettsgreenhouse.com/wp-content/uploads/2025/12/Christmas-Centerpiece-Flyer-2025-scaled.webp
END:VEVENT
BEGIN:VEVENT
DTSTART;TZID=America/New_York:20251214T130000
DTEND;TZID=America/New_York:20251214T160000
DTSTAMP:20260424T094857
CREATED:20251203T153522Z
LAST-MODIFIED:20251203T153522Z
UID:10000106-1765717200-1765728000@bennettsgreenhouse.com
SUMMARY:Paint Your Pet with Hope Creative
DESCRIPTION:Gift a seat to a friend\, create art for a loved one\, or bring the family and paint all of your pets together! This event is 100% beginner friendly\, with tons of instruction and assistance to ensure you love your piece. You’ll get a FREE houseplant to take home with you! \n\nI’m your host -Hope- a professional Pet Portrait Artist with 10 years of experience guiding novice painters in capturing their animals on canvas. My curated instruction and hands-on assistance will ensure you’ll want to proudly show off your completed art\, no matter your skill level. I’ll even take your seat and “edit” your painting a bit at the end of class if you’d like. Join us to unlock your creativity and craft a custom pet portrait you’ll cherish forever. \n\nYou are welcome to bring food and refreshments if you’d like. \n\nAfter registration\, you will receive an email with instructions for where to send your photo and other important info. \nTo purchase tickets ($85.50 each) click here: Paint Your Pet Tickets\n 
URL:https://bennettsgreenhouse.com/event/paint-your-pet-with-hope-creative-2/
LOCATION:Bennett’s Greenhouse – 3651 McCarty Lane\, Lafayette IN\, 47905\, 3651 McCarty Lane\, Lafayette\, IN\, 47905\, United States
CATEGORIES:Event,Workshops
END:VEVENT
BEGIN:VEVENT
DTSTART;TZID=America/New_York:20251130T140000
DTEND;TZID=America/New_York:20251130T170000
DTSTAMP:20260424T094857
CREATED:20251111T103020Z
LAST-MODIFIED:20251111T103020Z
UID:10000105-1764511200-1764522000@bennettsgreenhouse.com
SUMMARY:✨ Winter Wreath Workshop at Bennett’s ✨
DESCRIPTION:Get into the holiday spirit with us at Bennett’s Winter Wreath Workshop! 🌲 \nCreate your very own 14″ festive wreath using fresh evergreen pieces and decorate it with bows\, berries\, pine cones\, and more — perfect for your front door or as a handmade gift! \n🍷 Sip & Snack:\nEnjoy wine for purchase from our friends at Wildcat Creek Winery\, plus complimentary charcuterie snacks to nibble while you craft. \n🎄 Details:\n📅 Sunday\, November 30th\n🕒 2pm-5pm\n📍 Bennett’s Greenhouse\n💵 $65 \nGrab your friends\, roll up your sleeves\, and join us for an evening of creativity\, holiday cheer\, and local flavor. \n✨ Space is limited — reserve your spot today! ✨
URL:https://bennettsgreenhouse.com/event/%e2%9c%a8-winter-wreath-workshop-at-bennetts-%e2%9c%a8/
LOCATION:Bennett’s Greenhouse – 3651 McCarty Lane\, Lafayette IN\, 47905\, 3651 McCarty Lane\, Lafayette\, IN\, 47905\, United States
CATEGORIES:Event
ATTACH;FMTTYPE=image/webp:https://bennettsgreenhouse.com/wp-content/uploads/2025/11/Winter-Wreath-Workshop-2025-1-scaled.webp
END:VEVENT
BEGIN:VEVENT
DTSTART;TZID=America/New_York:20251130T130000
DTEND;TZID=America/New_York:20251130T160000
DTSTAMP:20260424T094857
CREATED:20251105T083247Z
LAST-MODIFIED:20251105T083716Z
UID:10000103-1764507600-1764518400@bennettsgreenhouse.com
SUMMARY:Santa at Bennett’s Greenhouse!
DESCRIPTION:🎅✨ Santa at Bennett’s Greenhouse! 🎄 \nThe magic of the season is blooming at Bennett’s Greenhouse! Join us for a heartwarming holiday visit from Santa Claus and Mrs Claus — the perfect way to kick off your Christmas celebrations. 🌿 \n📅 Dates & Times: \nSaturday\, November 29th | 11:00 AM – 3:00 PM \nSunday\, November 30th | 1:00 PM – 4:00 PM \n📍 Location:\nBennett’s Greenhouse\n3651 McCarty Lane\, Lafayette\, IN \n📸 Enjoy FREE photos with Santa and Mrs. Claus!\nBring your loved ones and make lasting holiday memories while enjoying:\n☕ Free hot cocoa\n🍬 Candy canes for the kids\n🎁 A cozy greenhouse filled with festive plants\, lights\, and cheer \nIt’s a jolly good time for the whole family — and the perfect start to your holiday season! \n#SantaAtBennetts #BennettsGreenhouse #HolidayFun #LafayetteIN #FreeFamilyEvent #ChristmasMagic
URL:https://bennettsgreenhouse.com/event/santa-at-bennetts-greenhouse/2025-11-30/
CATEGORIES:Event
ATTACH;FMTTYPE=image/jpeg:https://bennettsgreenhouse.com/wp-content/uploads/2025/11/Santa-At-Bennetts-2025-scaled.jpg
END:VEVENT
BEGIN:VEVENT
DTSTART;TZID=America/New_York:20251129T110000
DTEND;TZID=America/New_York:20251129T150000
DTSTAMP:20260424T094857
CREATED:20251105T083247Z
LAST-MODIFIED:20251105T083716Z
UID:10000101-1764414000-1764428400@bennettsgreenhouse.com
SUMMARY:Santa at Bennett’s Greenhouse!
DESCRIPTION:🎅✨ Santa at Bennett’s Greenhouse! 🎄 \nThe magic of the season is blooming at Bennett’s Greenhouse! Join us for a heartwarming holiday visit from Santa Claus and Mrs Claus — the perfect way to kick off your Christmas celebrations. 🌿 \n📅 Dates & Times: \nSaturday\, November 29th | 11:00 AM – 3:00 PM \nSunday\, November 30th | 1:00 PM – 4:00 PM \n📍 Location:\nBennett’s Greenhouse\n3651 McCarty Lane\, Lafayette\, IN \n📸 Enjoy FREE photos with Santa and Mrs. Claus!\nBring your loved ones and make lasting holiday memories while enjoying:\n☕ Free hot cocoa\n🍬 Candy canes for the kids\n🎁 A cozy greenhouse filled with festive plants\, lights\, and cheer \nIt’s a jolly good time for the whole family — and the perfect start to your holiday season! \n#SantaAtBennetts #BennettsGreenhouse #HolidayFun #LafayetteIN #FreeFamilyEvent #ChristmasMagic
URL:https://bennettsgreenhouse.com/event/santa-at-bennetts-greenhouse/2025-11-29/
CATEGORIES:Event
ATTACH;FMTTYPE=image/jpeg:https://bennettsgreenhouse.com/wp-content/uploads/2025/11/Santa-At-Bennetts-2025-scaled.jpg
END:VEVENT
BEGIN:VEVENT
DTSTART;TZID=America/New_York:20251123T140000
DTEND;TZID=America/New_York:20251123T153000
DTSTAMP:20260424T094857
CREATED:20251111T102438Z
LAST-MODIFIED:20251111T102737Z
UID:10000104-1763906400-1763911800@bennettsgreenhouse.com
SUMMARY:🎄 Holiday Porch Pot Workshop at Bennett’s Greenhouse 🎄
DESCRIPTION:Kick off the holiday season with us at Bennett’s Greenhouse for our Holiday Porch Pot Workshop! 🌲✨ \nCreate your own beautiful porch pot filled with fresh evergreens\, festive accents\, and holiday cheer — the perfect way to welcome guests this season. \n🍷 Special treat! Our friends from Wildcat Creek Winery will be on-site offering their delicious wines for purchase.\n🧀 Complimentary charcuterie snacks will be available to enjoy while you design your masterpiece! \n📅 Date: Sunday\, November 23rd\, 2025\n🕒 Time: 2pm-3:30pm\n📍 Location: Bennett’s Greenhouse \nSpaces fill quickly\, so grab your spot today! Bring your creativity\, a friend\, and your holiday spirit — we’ll take care of the rest.
URL:https://bennettsgreenhouse.com/event/%f0%9f%8e%84-holiday-porch-pot-workshop-at-bennetts-greenhouse-%f0%9f%8e%84/
LOCATION:Bennett’s Greenhouse – 3651 McCarty Lane\, Lafayette IN\, 47905\, 3651 McCarty Lane\, Lafayette\, IN\, 47905\, United States
CATEGORIES:Event
ATTACH;FMTTYPE=image/webp:https://bennettsgreenhouse.com/wp-content/uploads/2025/11/Holiday-Porch-Pot-Workshop-2025-scaled.webp
END:VEVENT
BEGIN:VEVENT
DTSTART;TZID=America/New_York:20251123T120000
DTEND;TZID=America/New_York:20251123T170000
DTSTAMP:20260424T094857
CREATED:20251104T141225Z
LAST-MODIFIED:20251105T082806Z
UID:10000100-1763899200-1763917200@bennettsgreenhouse.com
SUMMARY:Bennett's Annual Christmas Open House!
DESCRIPTION:🎄✨ Bennett’s Annual Christmas Open House ✨🎄\n📅 Saturday\, November 22nd (9 AM – 6 PM)\n📅 Sunday\, November 23rd (Noon – 5 PM)\n📍 Bennett’s Greenhouses\, 3651 McCarty Lane\, Lafayette\, IN\n💰 Free to attend! \nIt’s the most wonderful time of the year — and Bennett’s is ready to kick off the holiday season! 🌟 \nJoin us for our Annual Christmas Open House\, where our greenhouse transforms into a winter wonderland filled with festive favorites:\n🎅 Santa will be here for photos and holiday fun!\n📸 Saturday\, November 22nd — 9 AM to 1 PM\n📸 Sunday\, November 23rd — 1 PM to 4 PM\n🦌 The Indiana Reindeer Co will be here on Saturday\, November 22nd from 9 AM – 1 PM!\n🎁 Gorgeous poinsettias & Christmas cacti\n🎄 Live and cut Christmas trees\n🌿 Fresh greenery\, wreaths & grave décor \nEnjoy snacks\, refreshments\, and plenty of holiday cheer while you shop and get inspired for the season ahead. 🎁✨ \nMore festive surprises are coming soon — stay tuned! \nBring your friends\, family\, and holiday spirit — and don’t forget to RSVP & share this event to spread the joy! ❤️ \n#BennettsGreenhouses #ChristmasOpenHouse #LafayetteIN #ShopLocal #HolidayDecor #Poinsettias #ChristmasCactus #FreshGreenery #MerryAndBright #SantaIsComing #ReindeerMagic
URL:https://bennettsgreenhouse.com/event/bennetts-annual-christmas-open-house/2025-11-23/
LOCATION:Bennett’s Greenhouse – 3651 McCarty Lane\, Lafayette IN\, 47905\, 3651 McCarty Lane\, Lafayette\, IN\, 47905\, United States
CATEGORIES:Event
ATTACH;FMTTYPE=image/webp:https://bennettsgreenhouse.com/wp-content/uploads/2025/11/Holiday-Open-House-Flyer-2025-scaled.webp
END:VEVENT
BEGIN:VEVENT
DTSTART;TZID=America/New_York:20251122T090000
DTEND;TZID=America/New_York:20251122T180000
DTSTAMP:20260424T094857
CREATED:20251104T141225Z
LAST-MODIFIED:20251105T082806Z
UID:10000099-1763802000-1763834400@bennettsgreenhouse.com
SUMMARY:Bennett's Annual Christmas Open House!
DESCRIPTION:🎄✨ Bennett’s Annual Christmas Open House ✨🎄\n📅 Saturday\, November 22nd (9 AM – 6 PM)\n📅 Sunday\, November 23rd (Noon – 5 PM)\n📍 Bennett’s Greenhouses\, 3651 McCarty Lane\, Lafayette\, IN\n💰 Free to attend! \nIt’s the most wonderful time of the year — and Bennett’s is ready to kick off the holiday season! 🌟 \nJoin us for our Annual Christmas Open House\, where our greenhouse transforms into a winter wonderland filled with festive favorites:\n🎅 Santa will be here for photos and holiday fun!\n📸 Saturday\, November 22nd — 9 AM to 1 PM\n📸 Sunday\, November 23rd — 1 PM to 4 PM\n🦌 The Indiana Reindeer Co will be here on Saturday\, November 22nd from 9 AM – 1 PM!\n🎁 Gorgeous poinsettias & Christmas cacti\n🎄 Live and cut Christmas trees\n🌿 Fresh greenery\, wreaths & grave décor \nEnjoy snacks\, refreshments\, and plenty of holiday cheer while you shop and get inspired for the season ahead. 🎁✨ \nMore festive surprises are coming soon — stay tuned! \nBring your friends\, family\, and holiday spirit — and don’t forget to RSVP & share this event to spread the joy! ❤️ \n#BennettsGreenhouses #ChristmasOpenHouse #LafayetteIN #ShopLocal #HolidayDecor #Poinsettias #ChristmasCactus #FreshGreenery #MerryAndBright #SantaIsComing #ReindeerMagic
URL:https://bennettsgreenhouse.com/event/bennetts-annual-christmas-open-house/2025-11-22/
LOCATION:Bennett’s Greenhouse – 3651 McCarty Lane\, Lafayette IN\, 47905\, 3651 McCarty Lane\, Lafayette\, IN\, 47905\, United States
CATEGORIES:Event
ATTACH;FMTTYPE=image/webp:https://bennettsgreenhouse.com/wp-content/uploads/2025/11/Holiday-Open-House-Flyer-2025-scaled.webp
END:VEVENT
BEGIN:VEVENT
DTSTART;VALUE=DATE:20251122
DTEND;VALUE=DATE:20251124
DTSTAMP:20260424T094857
CREATED:20250115T125333Z
LAST-MODIFIED:20250115T133613Z
UID:10000085-1763769600-1763942399@bennettsgreenhouse.com
SUMMARY:Venue Not Available
DESCRIPTION:
URL:https://bennettsgreenhouse.com/event/venue-not-available/
CATEGORIES:Event,Private Event,Wedding
END:VEVENT
BEGIN:VEVENT
DTSTART;VALUE=DATE:20251101
DTEND;VALUE=DATE:20251102
DTSTAMP:20260424T094857
CREATED:20240808T182700Z
LAST-MODIFIED:20251006T163139Z
UID:10000057-1761955200-1762041599@bennettsgreenhouse.com
SUMMARY:Venue Not Available
DESCRIPTION:
URL:https://bennettsgreenhouse.com/event/wedding-booked-30/
CATEGORIES:Private Event,Wedding
END:VEVENT
BEGIN:VEVENT
DTSTART;TZID=America/New_York:20251026T130000
DTEND;TZID=America/New_York:20251026T160000
DTSTAMP:20260424T094857
CREATED:20250924T112246Z
LAST-MODIFIED:20250924T112341Z
UID:10000098-1761483600-1761494400@bennettsgreenhouse.com
SUMMARY:Paint Your Pet With Hope Creative
DESCRIPTION:https://www.facebook.com/events/s/paint-your-pet-at-bennetts/777266911745208/?mibextid=wwXIfr&rdid=3bfaLqb5gu6iuVc2&share_url=https%3A%2F%2Fwww.facebook.com%2Fshare%2F1GHb1gDQrZ%2F%3Fmibextid%3DwwXIfr#
URL:https://bennettsgreenhouse.com/event/paint-your-pet-with-hope-creative/
CATEGORIES:Event
ATTACH;FMTTYPE=image/webp:https://bennettsgreenhouse.com/wp-content/uploads/2025/09/Paint-Your-Pet-10.26.25.webp
END:VEVENT
BEGIN:VEVENT
DTSTART;VALUE=DATE:20251025
DTEND;VALUE=DATE:20251026
DTSTAMP:20260424T094857
CREATED:20240327T064204Z
LAST-MODIFIED:20240327T064204Z
UID:10000041-1761350400-1761436799@bennettsgreenhouse.com
SUMMARY:Wedding Booked
DESCRIPTION:
URL:https://bennettsgreenhouse.com/event/wedding-booked-20/
CATEGORIES:Wedding
END:VEVENT
BEGIN:VEVENT
DTSTART;VALUE=DATE:20251018
DTEND;VALUE=DATE:20251019
DTSTAMP:20260424T094857
CREATED:20240327T064124Z
LAST-MODIFIED:20240327T064124Z
UID:10000040-1760745600-1760831999@bennettsgreenhouse.com
SUMMARY:Wedding Booked
DESCRIPTION:
URL:https://bennettsgreenhouse.com/event/wedding-booked-19/
CATEGORIES:Wedding
END:VEVENT
BEGIN:VEVENT
DTSTART;VALUE=DATE:20251011
DTEND;VALUE=DATE:20251012
DTSTAMP:20260424T094857
CREATED:20240327T064025Z
LAST-MODIFIED:20240327T064025Z
UID:10000039-1760140800-1760227199@bennettsgreenhouse.com
SUMMARY:Wedding Booked
DESCRIPTION:
URL:https://bennettsgreenhouse.com/event/wedding-booked-18/
CATEGORIES:Wedding
END:VEVENT
BEGIN:VEVENT
DTSTART;TZID=America/New_York:20251005T150000
DTEND;TZID=America/New_York:20251005T160000
DTSTAMP:20260424T094857
CREATED:20250911T055825Z
LAST-MODIFIED:20250911T060310Z
UID:10000097-1759676400-1759680000@bennettsgreenhouse.com
SUMMARY:Fall Porch Pot Workshop!
DESCRIPTION:Celebrate the beauty of autumn by creating your own stunning Fall Bushel Basket Porch Pot! In this hands-on workshop\, you’ll design a lush\, seasonal arrangement using a mix of hardy fall blooms\, vibrant foliage\, and classic autumn accents — all nestled in a rustic bushel basket perfect for your porch or entryway. \nWhether you’re decorating for the season or just love the cozy colors of fall\, this workshop is a great way to get creative\, dig into the textures of autumn\, and leave with a one-of-a-kind piece that brings seasonal charm to your home. \nWhat’s Included: \n\nA wooden bushel basket\nA curated selection of fall flowers and foliage\nSoil\, tools\, and decorative accents\nStep-by-step guidance from our staff\nLight snacks/refreshments!\n\nNo experience necessary — just bring your love for fall and a willingness to get your hands dirty! \nDate: Sunday\, October 5th \nTime: 3pm-4pm\nLocation: 3651 McCarty Lane Lafayette\, IN\nCost: $55 \nSpots are limited\, so grab a friend and sign up today!
URL:https://bennettsgreenhouse.com/event/fall-porch-pot-workshop/
LOCATION:3651 McCarty Lane Lafayette\, IN\, 3651 McCarty Lane\, Lafayette\, IN\, 47905\, United States
CATEGORIES:Event
ATTACH;FMTTYPE=image/webp:https://bennettsgreenhouse.com/wp-content/uploads/2025/09/Fall-Porch-Pot-Workshop-2025-scaled.webp
END:VEVENT
BEGIN:VEVENT
DTSTART;VALUE=DATE:20251004
DTEND;VALUE=DATE:20251005
DTSTAMP:20260424T094857
CREATED:20240327T063931Z
LAST-MODIFIED:20240327T064227Z
UID:10000038-1759536000-1759622399@bennettsgreenhouse.com
SUMMARY:Wedding Booked
DESCRIPTION:
URL:https://bennettsgreenhouse.com/event/wedding-booked-17/
CATEGORIES:Wedding
END:VEVENT
BEGIN:VEVENT
DTSTART;VALUE=DATE:20250927
DTEND;VALUE=DATE:20250928
DTSTAMP:20260424T094857
CREATED:20240808T182539Z
LAST-MODIFIED:20240808T182539Z
UID:10000055-1758931200-1759017599@bennettsgreenhouse.com
SUMMARY:Wedding Booked
DESCRIPTION:
URL:https://bennettsgreenhouse.com/event/wedding-booked-28/
CATEGORIES:Wedding
END:VEVENT
BEGIN:VEVENT
DTSTART;VALUE=DATE:20250920
DTEND;VALUE=DATE:20250921
DTSTAMP:20260424T094857
CREATED:20240808T182524Z
LAST-MODIFIED:20240808T182524Z
UID:10000054-1758326400-1758412799@bennettsgreenhouse.com
SUMMARY:Wedding Booked
DESCRIPTION:
URL:https://bennettsgreenhouse.com/event/wedding-booked-27/
CATEGORIES:Wedding
END:VEVENT
BEGIN:VEVENT
DTSTART;VALUE=DATE:20250913
DTEND;VALUE=DATE:20250914
DTSTAMP:20260424T094857
CREATED:20240808T182459Z
LAST-MODIFIED:20240808T220844Z
UID:10000053-1757721600-1757807999@bennettsgreenhouse.com
SUMMARY:Wedding Booked
DESCRIPTION:
URL:https://bennettsgreenhouse.com/event/wedding-booked-26/
CATEGORIES:Wedding
END:VEVENT
BEGIN:VEVENT
DTSTART;VALUE=DATE:20250906
DTEND;VALUE=DATE:20250907
DTSTAMP:20260424T094857
CREATED:20240808T182425Z
LAST-MODIFIED:20240808T182447Z
UID:10000052-1757116800-1757203199@bennettsgreenhouse.com
SUMMARY:Wedding Booked
DESCRIPTION:
URL:https://bennettsgreenhouse.com/event/wedding-booked-25/
CATEGORIES:Wedding
END:VEVENT
BEGIN:VEVENT
DTSTART;VALUE=DATE:20250823
DTEND;VALUE=DATE:20250824
DTSTAMP:20260424T094857
CREATED:20240808T182304Z
LAST-MODIFIED:20240808T182944Z
UID:10000050-1755907200-1755993599@bennettsgreenhouse.com
SUMMARY:Wedding Booked
DESCRIPTION:
URL:https://bennettsgreenhouse.com/event/wedding-booked-23/
CATEGORIES:Wedding
END:VEVENT
BEGIN:VEVENT
DTSTART;VALUE=DATE:20250816
DTEND;VALUE=DATE:20250817
DTSTAMP:20260424T094857
CREATED:20241001T044108Z
LAST-MODIFIED:20241001T063714Z
UID:10000074-1755302400-1755388799@bennettsgreenhouse.com
SUMMARY:Wedding Booked
DESCRIPTION:
URL:https://bennettsgreenhouse.com/event/wedding-booked-37/
CATEGORIES:Wedding
END:VEVENT
BEGIN:VEVENT
DTSTART;VALUE=DATE:20250809
DTEND;VALUE=DATE:20250810
DTSTAMP:20260424T094857
CREATED:20241001T043709Z
LAST-MODIFIED:20241001T063653Z
UID:10000073-1754697600-1754783999@bennettsgreenhouse.com
SUMMARY:Wedding Booked
DESCRIPTION:
URL:https://bennettsgreenhouse.com/event/wedding-booked-36/
CATEGORIES:Wedding
END:VEVENT
BEGIN:VEVENT
DTSTART;VALUE=DATE:20250802
DTEND;VALUE=DATE:20250803
DTSTAMP:20260424T094857
CREATED:20240808T182253Z
LAST-MODIFIED:20240808T182952Z
UID:10000049-1754092800-1754179199@bennettsgreenhouse.com
SUMMARY:Wedding Booked
DESCRIPTION:
URL:https://bennettsgreenhouse.com/event/wedding-booked-22/
CATEGORIES:Wedding
END:VEVENT
BEGIN:VEVENT
DTSTART;TZID=America/New_York:20250727T120000
DTEND;TZID=America/New_York:20250727T170000
DTSTAMP:20260424T094857
CREATED:20250522T054341Z
LAST-MODIFIED:20250522T054857Z
UID:10000093-1753617600-1753635600@bennettsgreenhouse.com
SUMMARY:🌻 Aroma of Summer Market 🌻
DESCRIPTION:📍 Bennett’s Greenhouse | Hosted by 765 Markets \nCelebrate summer with us at our second annual Aroma of Summer Market — a fun-filled day of local shopping\, delicious eats\, and family-friendly entertainment! ☀️ \nFeaturing:\n🛍️ 50+ shopping vendors\n🍔 Food & drink vendors\n🎶 Live music\n👨‍👩‍👧‍👦 Family fun and more! \n🌻 Enjoy the sunshine while supporting local makers and small businesses in our beautiful outdoor venue. \n📅 Save the date: Sunday\, July 27th | 12–5 PM\n📍 Bennett’s Greenhouse: 3651 McCarty Lane\, Lafayette\, IN 47905 \nFollow @765Markets for vendor highlights and event updates. If you would like to become a vendor please email 765 Markets at 765.markets@gmail.com. \n🌻 We can’t wait to see you there! 🌻
URL:https://bennettsgreenhouse.com/event/%f0%9f%8c%bb-aroma-of-summer-market-%f0%9f%8c%bb/
LOCATION:Bennett’s Greenhouse\, 3651 McCarty Ln.\, Lafayette\, Indiana\, 47905
ATTACH;FMTTYPE=image/png:https://bennettsgreenhouse.com/wp-content/uploads/2025/05/Aroma-of-Summer-Market-2025-Flyer.png
END:VEVENT
END:VCALENDAR