BEGIN:VCALENDAR
VERSION:2.0
PRODID:-//Bennett&#039;s Greenhouse - ECPv6.15.20//NONSGML v1.0//EN
CALSCALE:GREGORIAN
METHOD:PUBLISH
X-WR-CALNAME:Bennett&#039;s Greenhouse
X-ORIGINAL-URL:https://bennettsgreenhouse.com
X-WR-CALDESC:Events for Bennett&#039;s Greenhouse
REFRESH-INTERVAL;VALUE=DURATION:PT1H
X-Robots-Tag:noindex
X-PUBLISHED-TTL:PT1H
BEGIN:VTIMEZONE
TZID:America/New_York
BEGIN:DAYLIGHT
TZOFFSETFROM:-0500
TZOFFSETTO:-0400
TZNAME:EDT
DTSTART:20250309T070000
END:DAYLIGHT
BEGIN:STANDARD
TZOFFSETFROM:-0400
TZOFFSETTO:-0500
TZNAME:EST
DTSTART:20251102T060000
END:STANDARD
BEGIN:DAYLIGHT
TZOFFSETFROM:-0500
TZOFFSETTO:-0400
TZNAME:EDT
DTSTART:20260308T070000
END:DAYLIGHT
BEGIN:STANDARD
TZOFFSETFROM:-0400
TZOFFSETTO:-0500
TZNAME:EST
DTSTART:20261101T060000
END:STANDARD
BEGIN:DAYLIGHT
TZOFFSETFROM:-0500
TZOFFSETTO:-0400
TZNAME:EDT
DTSTART:20270314T070000
END:DAYLIGHT
BEGIN:STANDARD
TZOFFSETFROM:-0400
TZOFFSETTO:-0500
TZNAME:EST
DTSTART:20271107T060000
END:STANDARD
END:VTIMEZONE
BEGIN:VEVENT
DTSTART;TZID=America/New_York:20260425T110000
DTEND;TZID=America/New_York:20260425T130000
DTSTAMP:20260424T075435
CREATED:20260310T180017Z
LAST-MODIFIED:20260311T155824Z
UID:10000123-1777114800-1777122000@bennettsgreenhouse.com
SUMMARY:🌱 Plant Bingo Brunch 🌱
DESCRIPTION:Calling all plant lovers — you’re invited to a cozy\, green-filled brunch designed to help you grow your plant knowledge while having a little fun 💚 We are excited to have Krystal Duran from PlantswithKrystal as our bingo host and brunch served by BT Humbles Catering! \nJoin us for a relaxed brunch featuring 20 rounds of Plant Bingo\, complete with plant trivia and education/care tips throughout the event. Whether you’re a seasoned plant parent or just starting out\, you’ll leave with useful knowledge and plant prizes!🌿 \n✨ What’s included with your ticket: \n🌿 Plant education & care tips throughout the event\n🥂 One free mimosa \n🎉 Bingo is FREE to play! MUST HAVE A TICKET TO ENTER- LIMITED SPACE CAPACITY. \n🍽️ Brunch food is available for purchase from our friends from BT Humbles Catering. \n🥂 Mimosas will be poured by our friends from Thieme and Wagner Brewery. \nCome for the learning\, stay for the fun — and enjoy chances to win planty prizes along the way. \n🗓️ Saturday\, April 25th\n⏰ 11am-1pm\n📍 Bennett’s Greenhouse \nGood food\, good drinks\, and good plant energy — we can’t wait to bingo brunch with you 🌿✨
URL:https://bennettsgreenhouse.com/event/%f0%9f%8c%b1-plant-bingo-brunch-2%f0%9f%8c%b1/
CATEGORIES:Event
ATTACH;FMTTYPE=image/png:https://bennettsgreenhouse.com/wp-content/uploads/2026/03/Plant-Bingo-Brunch-Flyer-April-2026-1-scaled.png
END:VEVENT
BEGIN:VEVENT
DTSTART;VALUE=DATE:20260606
DTEND;VALUE=DATE:20260607
DTSTAMP:20260424T075435
CREATED:20251208T164004Z
LAST-MODIFIED:20251208T164004Z
UID:10000109-1780704000-1780790399@bennettsgreenhouse.com
SUMMARY:Wedding Booked
DESCRIPTION:
URL:https://bennettsgreenhouse.com/event/wedding-booked-29/
CATEGORIES:Wedding
END:VEVENT
BEGIN:VEVENT
DTSTART;VALUE=DATE:20260613
DTEND;VALUE=DATE:20260614
DTSTAMP:20260424T075435
CREATED:20251208T163740Z
LAST-MODIFIED:20251208T163740Z
UID:10000107-1781308800-1781395199@bennettsgreenhouse.com
SUMMARY:Wedding Booked
DESCRIPTION:
URL:https://bennettsgreenhouse.com/event/wedding-booked-24/
CATEGORIES:Wedding
END:VEVENT
BEGIN:VEVENT
DTSTART;VALUE=DATE:20260718
DTEND;VALUE=DATE:20260719
DTSTAMP:20260424T075435
CREATED:20251208T164151Z
LAST-MODIFIED:20251208T164151Z
UID:10000112-1784332800-1784419199@bennettsgreenhouse.com
SUMMARY:Wedding Booked
DESCRIPTION:
URL:https://bennettsgreenhouse.com/event/wedding-booked-31/
CATEGORIES:Wedding
END:VEVENT
BEGIN:VEVENT
DTSTART;VALUE=DATE:20260829
DTEND;VALUE=DATE:20260830
DTSTAMP:20260424T075435
CREATED:20251208T164252Z
LAST-MODIFIED:20251208T164252Z
UID:10000113-1787961600-1788047999@bennettsgreenhouse.com
SUMMARY:Wedding Booked
DESCRIPTION:
URL:https://bennettsgreenhouse.com/event/wedding-booked-43/
CATEGORIES:Wedding
END:VEVENT
BEGIN:VEVENT
DTSTART;VALUE=DATE:20260919
DTEND;VALUE=DATE:20260920
DTSTAMP:20260424T075435
CREATED:20241001T044254Z
LAST-MODIFIED:20241001T063738Z
UID:10000075-1789776000-1789862399@bennettsgreenhouse.com
SUMMARY:Wedding Booked
DESCRIPTION:
URL:https://bennettsgreenhouse.com/event/wedding-booked-38/
CATEGORIES:Wedding
END:VEVENT
BEGIN:VEVENT
DTSTART;VALUE=DATE:20260926
DTEND;VALUE=DATE:20260927
DTSTAMP:20260424T075435
CREATED:20241001T044524Z
LAST-MODIFIED:20241001T063801Z
UID:10000076-1790380800-1790467199@bennettsgreenhouse.com
SUMMARY:Wedding Booked
DESCRIPTION:
URL:https://bennettsgreenhouse.com/event/wedding-booked-39/
CATEGORIES:Wedding
END:VEVENT
BEGIN:VEVENT
DTSTART;VALUE=DATE:20261003
DTEND;VALUE=DATE:20261004
DTSTAMP:20260424T075435
CREATED:20251208T164335Z
LAST-MODIFIED:20251208T164335Z
UID:10000114-1790985600-1791071999@bennettsgreenhouse.com
SUMMARY:Wedding Booked
DESCRIPTION:
URL:https://bennettsgreenhouse.com/event/wedding-booked-44/
CATEGORIES:Wedding
END:VEVENT
BEGIN:VEVENT
DTSTART;VALUE=DATE:20261010
DTEND;VALUE=DATE:20261011
DTSTAMP:20260424T075435
CREATED:20241001T044602Z
LAST-MODIFIED:20241001T063503Z
UID:10000077-1791590400-1791676799@bennettsgreenhouse.com
SUMMARY:Wedding Booked
DESCRIPTION:
URL:https://bennettsgreenhouse.com/event/wedding-booked-40/
CATEGORIES:Wedding
END:VEVENT
BEGIN:VEVENT
DTSTART;VALUE=DATE:20261017
DTEND;VALUE=DATE:20261018
DTSTAMP:20260424T075435
CREATED:20251208T164425Z
LAST-MODIFIED:20251208T164425Z
UID:10000115-1792195200-1792281599@bennettsgreenhouse.com
SUMMARY:Wedding Booked
DESCRIPTION:
URL:https://bennettsgreenhouse.com/event/wedding-booked-45/
CATEGORIES:Wedding
END:VEVENT
BEGIN:VEVENT
DTSTART;VALUE=DATE:20261024
DTEND;VALUE=DATE:20261025
DTSTAMP:20260424T075435
CREATED:20251209T115915Z
LAST-MODIFIED:20251209T115915Z
UID:10000117-1792800000-1792886399@bennettsgreenhouse.com
SUMMARY:Wedding Booked
DESCRIPTION:
URL:https://bennettsgreenhouse.com/event/wedding-booked-47/
CATEGORIES:Wedding
END:VEVENT
BEGIN:VEVENT
DTSTART;VALUE=DATE:20261031
DTEND;VALUE=DATE:20261101
DTSTAMP:20260424T075435
CREATED:20251208T164523Z
LAST-MODIFIED:20251208T164523Z
UID:10000116-1793404800-1793491199@bennettsgreenhouse.com
SUMMARY:Wedding Booked
DESCRIPTION:
URL:https://bennettsgreenhouse.com/event/wedding-booked-46/
CATEGORIES:Wedding
END:VEVENT
END:VCALENDAR