BEGIN:VCALENDAR
VERSION:2.0
PRODID:-//Bennett&#039;s Greenhouse - ECPv6.15.20//NONSGML v1.0//EN
CALSCALE:GREGORIAN
METHOD:PUBLISH
X-WR-CALNAME:Bennett&#039;s Greenhouse
X-ORIGINAL-URL:https://bennettsgreenhouse.com
X-WR-CALDESC:Events for Bennett&#039;s Greenhouse
REFRESH-INTERVAL;VALUE=DURATION:PT1H
X-Robots-Tag:noindex
X-PUBLISHED-TTL:PT1H
BEGIN:VTIMEZONE
TZID:America/New_York
BEGIN:DAYLIGHT
TZOFFSETFROM:-0500
TZOFFSETTO:-0400
TZNAME:EDT
DTSTART:20230312T070000
END:DAYLIGHT
BEGIN:STANDARD
TZOFFSETFROM:-0400
TZOFFSETTO:-0500
TZNAME:EST
DTSTART:20231105T060000
END:STANDARD
BEGIN:DAYLIGHT
TZOFFSETFROM:-0500
TZOFFSETTO:-0400
TZNAME:EDT
DTSTART:20240310T070000
END:DAYLIGHT
BEGIN:STANDARD
TZOFFSETFROM:-0400
TZOFFSETTO:-0500
TZNAME:EST
DTSTART:20241103T060000
END:STANDARD
BEGIN:DAYLIGHT
TZOFFSETFROM:-0500
TZOFFSETTO:-0400
TZNAME:EDT
DTSTART:20250309T070000
END:DAYLIGHT
BEGIN:STANDARD
TZOFFSETFROM:-0400
TZOFFSETTO:-0500
TZNAME:EST
DTSTART:20251102T060000
END:STANDARD
BEGIN:DAYLIGHT
TZOFFSETFROM:-0500
TZOFFSETTO:-0400
TZNAME:EDT
DTSTART:20260308T070000
END:DAYLIGHT
BEGIN:STANDARD
TZOFFSETFROM:-0400
TZOFFSETTO:-0500
TZNAME:EST
DTSTART:20261101T060000
END:STANDARD
END:VTIMEZONE
BEGIN:VEVENT
DTSTART;TZID=America/New_York:20250328T173000
DTEND;TZID=America/New_York:20250328T193000
DTSTAMP:20260424T114634
CREATED:20250305T081721Z
LAST-MODIFIED:20250310T171133Z
UID:10000087-1743183000-1743190200@bennettsgreenhouse.com
SUMMARY:Spring Paint and Sip at Bennett's Greenhouse!
DESCRIPTION:Come join us for a fun and creative evening of painting and sipping at Bennett’s Greenhouse. Let your artistic side shine as you paint a beautiful spring masterpiece while enjoying some delicious sips & snacks. Included in your ticket price is a small plant to take home as well! Don’t miss out on this wonderful opportunity to relax\, unwind\, and get in touch with your inner artist. Grab your friends and reserve your spots now!
URL:https://bennettsgreenhouse.com/event/spring-paint-and-sip-at-bennetts-greenhouse/
LOCATION:Bennett’s Greenhouse\, 3651 McCarty Ln.\, Lafayette\, Indiana\, 47905
CATEGORIES:Event,Workshops
ATTACH;FMTTYPE=image/jpeg:https://bennettsgreenhouse.com/wp-content/uploads/2025/03/Spring-Paint-and-Sip-1-1.jpg
END:VEVENT
BEGIN:VEVENT
DTSTART;TZID=America/New_York:20250322T160000
DTEND;TZID=America/New_York:20250322T170000
DTSTAMP:20260424T114634
CREATED:20250203T224901Z
LAST-MODIFIED:20250310T171532Z
UID:10000086-1742659200-1742662800@bennettsgreenhouse.com
SUMMARY:🌵 Sip & Succulent at Brokerage Brewing! 🌿
DESCRIPTION:🍻 Join us for a creative\, relaxing afternoon of succulent planting and craft beer at Brokerage! Whether you’re a plant parent or new to the green thumb world\, this event is perfect for everyone. Get your hands dirty\, sip on your favorite brews\, and leave with a beautiful succulent arrangement that you can take home! \nWhat’s Included: \n\nA hands-on succulent planting workshop\nYour choice of a delicious craft beer to sip while you plant\nAll materials provided: pots\, soil\, and succulents\nExpert tips on succulent care and arranging\nA fun\, relaxed atmosphere to connect with fellow plant and beer lovers\nTicket includes succulent supplies and your first beer!\n\nCome for the plants\, stay for the beers\, and leave with a custom succulent creation! 🌿✨
URL:https://bennettsgreenhouse.com/event/%f0%9f%8c%b5-sip-succulent-at-brokerage-brewing-%f0%9f%8c%bf/
LOCATION:2516 Covington St\, West Lafayette\, IN 47906\, 2516 Covington St.\, West Lafayette\, 47906\, United States
CATEGORIES:Event,Workshops
ATTACH;FMTTYPE=application/pdf:https://bennettsgreenhouse.com/wp-content/uploads/2025/02/Sip-Succulent-1.pdf
END:VEVENT
BEGIN:VEVENT
DTSTART;TZID=America/New_York:20250208T130000
DTEND;TZID=America/New_York:20250208T143000
DTSTAMP:20260424T114634
CREATED:20250110T171753Z
LAST-MODIFIED:20250111T124633Z
UID:10000082-1739019600-1739025000@bennettsgreenhouse.com
SUMMARY:DIY Staghorn Mounting Workshop
DESCRIPTION:Join our plant experts as they walk you through the steps to mount a staghorn fern to make your walls at home a bit more ✨magical✨.\nOur experts will go through the specific care of epiphytes and give personalized advice to any new plant parents.\nAll hardware\, materials\, and plants are included in this DIY workshop!
URL:https://bennettsgreenhouse.com/event/diy-staghorn-mounting-workshop/
LOCATION:Bennett’s Greenhouse\, 3651 McCarty Ln.\, Lafayette\, Indiana\, 47905
CATEGORIES:Event,Workshops
ATTACH;FMTTYPE=image/png:https://bennettsgreenhouse.com/wp-content/uploads/2025/01/DIY-1.png
END:VEVENT
BEGIN:VEVENT
DTSTART;VALUE=DATE:20241228
DTEND;VALUE=DATE:20241229
DTSTAMP:20260424T114634
CREATED:20241001T034937Z
LAST-MODIFIED:20241001T063522Z
UID:10000067-1735344000-1735430399@bennettsgreenhouse.com
SUMMARY:Wedding Booked
DESCRIPTION:
URL:https://bennettsgreenhouse.com/event/wedding-booked-32/
CATEGORIES:Wedding
END:VEVENT
BEGIN:VEVENT
DTSTART;VALUE=DATE:20241116
DTEND;VALUE=DATE:20241117
DTSTAMP:20260424T114634
CREATED:20240808T182048Z
LAST-MODIFIED:20240808T182048Z
UID:10000047-1731715200-1731801599@bennettsgreenhouse.com
SUMMARY:Wedding Booked
DESCRIPTION:
URL:https://bennettsgreenhouse.com/event/wedding-booked-11/
CATEGORIES:Wedding
END:VEVENT
BEGIN:VEVENT
DTSTART;TZID=America/New_York:20241027T140000
DTEND;TZID=America/New_York:20241027T160000
DTSTAMP:20260424T114634
CREATED:20241011T021547Z
LAST-MODIFIED:20241017T191318Z
UID:10000079-1730037600-1730044800@bennettsgreenhouse.com
SUMMARY:Living Fall Wreath
DESCRIPTION:Come enjoy fall and spooky season with us by creating your own air plant wreath! We will have cider\, candy\, and other snacks as well  Unlimited silk flowers to decorate with on your own 10 inch grapevine wreath. Three living air plants per wreath!
URL:https://bennettsgreenhouse.com/event/living-fall-wreath/
CATEGORIES:Event
ATTACH;FMTTYPE=image/png:https://bennettsgreenhouse.com/wp-content/uploads/2024/10/living-fall-wreath.png
END:VEVENT
BEGIN:VEVENT
DTSTART;TZID=America/New_York:20241027T120000
DTEND;TZID=America/New_York:20241027T150000
DTSTAMP:20260424T114634
CREATED:20240924T040117Z
LAST-MODIFIED:20240924T040117Z
UID:10000062-1730030400-1730041200@bennettsgreenhouse.com
SUMMARY:Paint Your Pet a Bennett's
DESCRIPTION:Purchase Tickets
URL:https://bennettsgreenhouse.com/event/paint-your-pet-a-bennetts/
CATEGORIES:Event
ATTACH;FMTTYPE=image/png:https://bennettsgreenhouse.com/wp-content/uploads/2024/09/paint-your-pet-10.27.24.png
END:VEVENT
BEGIN:VEVENT
DTSTART;VALUE=DATE:20241026
DTEND;VALUE=DATE:20241027
DTSTAMP:20260424T114634
CREATED:20240327T063758Z
LAST-MODIFIED:20240327T064317Z
UID:10000036-1729900800-1729987199@bennettsgreenhouse.com
SUMMARY:Wedding Booked
DESCRIPTION:
URL:https://bennettsgreenhouse.com/event/wedding-booked-15/
CATEGORIES:Wedding
END:VEVENT
BEGIN:VEVENT
DTSTART;VALUE=DATE:20241019
DTEND;VALUE=DATE:20241020
DTSTAMP:20260424T114634
CREATED:20240327T063518Z
LAST-MODIFIED:20240327T064412Z
UID:10000035-1729296000-1729382399@bennettsgreenhouse.com
SUMMARY:Wedding Booked
DESCRIPTION:
URL:https://bennettsgreenhouse.com/event/wedding-booked-14/
CATEGORIES:Wedding
END:VEVENT
BEGIN:VEVENT
DTSTART;VALUE=DATE:20241012
DTEND;VALUE=DATE:20241013
DTSTAMP:20260424T114634
CREATED:20240228T192457Z
LAST-MODIFIED:20240808T181021Z
UID:10000020-1728720000-1728752400@bennettsgreenhouse.com
SUMMARY:Wedding Booked
DESCRIPTION:
URL:https://bennettsgreenhouse.com/event/wedding-booked-4/2024-10-12/
CATEGORIES:Wedding
END:VEVENT
BEGIN:VEVENT
DTSTART;VALUE=DATE:20241012
DTEND;VALUE=DATE:20241013
DTSTAMP:20260424T114634
CREATED:20240307T091515Z
LAST-MODIFIED:20240327T064515Z
UID:10000028-1728691200-1728777599@bennettsgreenhouse.com
SUMMARY:Wedding Booked
DESCRIPTION:
URL:https://bennettsgreenhouse.com/event/wedding-booked-12/
CATEGORIES:Wedding
END:VEVENT
BEGIN:VEVENT
DTSTART;TZID=America/New_York:20241001T183000
DTEND;TZID=America/New_York:20241001T193000
DTSTAMP:20260424T114634
CREATED:20240828T231733Z
LAST-MODIFIED:20240828T232021Z
UID:10000060-1727807400-1727811000@bennettsgreenhouse.com
SUMMARY:Curious about Carnivorous?
DESCRIPTION:Come learn all about carnivorous plants with us with some local experts in the field. This workshop is free\, but please email events@bennettsgreenhouse.com if you plan on attending so we can make sure we have enough seats available. \nHope to see you all there!
URL:https://bennettsgreenhouse.com/event/curious-about-carnivorous/
CATEGORIES:Event
ATTACH;FMTTYPE=image/jpeg:https://bennettsgreenhouse.com/wp-content/uploads/2024/08/Carnviourous-Workshop-Flyer.jpg
END:VEVENT
BEGIN:VEVENT
DTSTART;VALUE=DATE:20240928
DTEND;VALUE=DATE:20240929
DTSTAMP:20260424T114634
CREATED:20240228T192457Z
LAST-MODIFIED:20240808T181021Z
UID:10000018-1727510400-1727542800@bennettsgreenhouse.com
SUMMARY:Wedding Booked
DESCRIPTION:
URL:https://bennettsgreenhouse.com/event/wedding-booked-4/2024-09-28/
CATEGORIES:Wedding
END:VEVENT
BEGIN:VEVENT
DTSTART;VALUE=DATE:20240928
DTEND;VALUE=DATE:20240929
DTSTAMP:20260424T114634
CREATED:20240307T091429Z
LAST-MODIFIED:20240327T064501Z
UID:10000026-1727481600-1727567999@bennettsgreenhouse.com
SUMMARY:Wedding Booked
DESCRIPTION:
URL:https://bennettsgreenhouse.com/event/wedding-booked-10/
CATEGORIES:Wedding
END:VEVENT
BEGIN:VEVENT
DTSTART;VALUE=DATE:20240921
DTEND;VALUE=DATE:20240922
DTSTAMP:20260424T114634
CREATED:20240228T192457Z
LAST-MODIFIED:20240808T181021Z
UID:10000017-1726905600-1726938000@bennettsgreenhouse.com
SUMMARY:Wedding Booked
DESCRIPTION:
URL:https://bennettsgreenhouse.com/event/wedding-booked-4/2024-09-21/
CATEGORIES:Wedding
END:VEVENT
BEGIN:VEVENT
DTSTART;VALUE=DATE:20240921
DTEND;VALUE=DATE:20240922
DTSTAMP:20260424T114634
CREATED:20240307T091405Z
LAST-MODIFIED:20240327T064454Z
UID:10000025-1726876800-1726963199@bennettsgreenhouse.com
SUMMARY:Wedding Booked
DESCRIPTION:
URL:https://bennettsgreenhouse.com/event/wedding-booked-9/
CATEGORIES:Wedding
END:VEVENT
BEGIN:VEVENT
DTSTART;VALUE=DATE:20240914
DTEND;VALUE=DATE:20240915
DTSTAMP:20260424T114634
CREATED:20240307T091338Z
LAST-MODIFIED:20240327T064447Z
UID:10000024-1726272000-1726358399@bennettsgreenhouse.com
SUMMARY:Wedding Booked
DESCRIPTION:
URL:https://bennettsgreenhouse.com/event/wedding-booked-8/
CATEGORIES:Wedding
END:VEVENT
BEGIN:VEVENT
DTSTART;VALUE=DATE:20240914
DTEND;VALUE=DATE:20240915
DTSTAMP:20260424T114634
CREATED:20240228T192457Z
LAST-MODIFIED:20240808T181021Z
UID:10000012-1726272000-1726358399@bennettsgreenhouse.com
SUMMARY:Wedding Booked
DESCRIPTION:
URL:https://bennettsgreenhouse.com/event/wedding-booked-4/2024-09-14/
CATEGORIES:Wedding
END:VEVENT
BEGIN:VEVENT
DTSTART;VALUE=DATE:20240907
DTEND;VALUE=DATE:20240908
DTSTAMP:20260424T114634
CREATED:20240327T063355Z
LAST-MODIFIED:20240327T064435Z
UID:10000034-1725667200-1725753599@bennettsgreenhouse.com
SUMMARY:Wedding Booked
DESCRIPTION:
URL:https://bennettsgreenhouse.com/event/wedding-booked-13/
CATEGORIES:Wedding
END:VEVENT
BEGIN:VEVENT
DTSTART;VALUE=DATE:20240831
DTEND;VALUE=DATE:20240901
DTSTAMP:20260424T114634
CREATED:20240307T091308Z
LAST-MODIFIED:20240307T091308Z
UID:10000023-1725062400-1725148799@bennettsgreenhouse.com
SUMMARY:Wedding Booked
DESCRIPTION:
URL:https://bennettsgreenhouse.com/event/wedding-booked-7/
CATEGORIES:Private Event
END:VEVENT
BEGIN:VEVENT
DTSTART;VALUE=DATE:20240831
DTEND;VALUE=DATE:20240901
DTSTAMP:20260424T114634
CREATED:20240228T192108Z
LAST-MODIFIED:20240228T192108Z
UID:10000011-1725062400-1725148799@bennettsgreenhouse.com
SUMMARY:Wedding Booked
DESCRIPTION:
URL:https://bennettsgreenhouse.com/event/wedding-booked-3/
CATEGORIES:Wedding
END:VEVENT
BEGIN:VEVENT
DTSTART;VALUE=DATE:20240824
DTEND;VALUE=DATE:20240825
DTSTAMP:20260424T114634
CREATED:20240307T091233Z
LAST-MODIFIED:20240307T091233Z
UID:10000022-1724457600-1724543999@bennettsgreenhouse.com
SUMMARY:Wedding Booked
DESCRIPTION:
URL:https://bennettsgreenhouse.com/event/wedding-booked-6/
CATEGORIES:Private Event
END:VEVENT
BEGIN:VEVENT
DTSTART;VALUE=DATE:20240824
DTEND;VALUE=DATE:20240825
DTSTAMP:20260424T114634
CREATED:20240228T192030Z
LAST-MODIFIED:20240228T192030Z
UID:10000010-1724457600-1724543999@bennettsgreenhouse.com
SUMMARY:Wedding Booked
DESCRIPTION:
URL:https://bennettsgreenhouse.com/event/wedding-booked-2/
CATEGORIES:Wedding
END:VEVENT
BEGIN:VEVENT
DTSTART;TZID=America/New_York:20240504T130000
DTEND;TZID=America/New_York:20240504T140000
DTSTAMP:20260424T114634
CREATED:20240314T122523Z
LAST-MODIFIED:20240327T061756Z
UID:10000030-1714827600-1714831200@bennettsgreenhouse.com
SUMMARY:Free Bonsai Workshop:
DESCRIPTION:Come learn about the historical gardening and art form of Bonsai. This includes education by our experts from the Bonsai Club of Lafayette! They will explain the facts of growing ornamental trees and shrubs and how to grow your very own Bonsai. From which soil to use\, winter care\, and pruning techniques\, their expertise will help guide you through the intricate process. This is an introductory course for beginners! Interactive bonsai workshop to come later! Please sign up for this free workshop by emailing events@bennettsgreenhouse.com \n 
URL:https://bennettsgreenhouse.com/event/free-bonsai-workshop/
CATEGORIES:Event
END:VEVENT
BEGIN:VEVENT
DTSTART;TZID=America/New_York:20240501T180000
DTEND;TZID=America/New_York:20240501T210000
DTSTAMP:20260424T114634
CREATED:20240417T131030Z
LAST-MODIFIED:20240417T131833Z
UID:10000042-1714586400-1714597200@bennettsgreenhouse.com
SUMMARY:Paint Your Pet at Bennett's
DESCRIPTION:Buy Tickets\n					\n\n	\n\n\nTake a seat in front of your canvas\, pre-traced with your pet! I’ll walk you through how to Paint Your Pet step-by-step. Class will be like filling in a coloring book\, no drawing required. I will provide paint\, brushes\, easels\, and everything else you’ll need to produce a masterpiece and discover your inner artist. Come have some fun\, celebrate your pet\, and unlock your creativity. \nAfter registration\, you will receive an email with instructions for where to send your photo\, and other important info. Please enter a valid email address so we can reach you easily!
URL:https://bennettsgreenhouse.com/event/paint-your-pet-at-bennetts/
CATEGORIES:Event
ATTACH;FMTTYPE=image/jpeg:https://bennettsgreenhouse.com/wp-content/uploads/2024/04/Copy-of-Paint-Your-Pet-at-Bennetts.jpeg
END:VEVENT
BEGIN:VEVENT
DTSTART;VALUE=DATE:20240424
DTEND;VALUE=DATE:20240425
DTSTAMP:20260424T114634
CREATED:20240423T175519Z
LAST-MODIFIED:20240423T175519Z
UID:10000044-1713916800-1714003199@bennettsgreenhouse.com
SUMMARY:Testing
DESCRIPTION:
URL:https://bennettsgreenhouse.com/event/testing/
CATEGORIES:Wedding
END:VEVENT
BEGIN:VEVENT
DTSTART;TZID=America/New_York:20240414T130000
DTEND;TZID=America/New_York:20240414T150000
DTSTAMP:20260424T114634
CREATED:20240320T065237Z
LAST-MODIFIED:20240327T061715Z
UID:10000032-1713099600-1713106800@bennettsgreenhouse.com
SUMMARY:Spring Tangles Workshop
DESCRIPTION:Art Workshop at Bennett’s: Spring-tanlges! Learn the art of Zentangle: an easy-to-learn\, relaxing\, and fun way to create beautiful pictures by drawing structured patterns. Kathleen Lee\, local Lafayette Artist\, will help you create your masterpiece. Included in the ticket price are light refreshments\, your own fine tip pen\, 5.5 x 8.5 sketchbook\, and complete mat set. You will also get an annual flowering plant included with the workshop. Come out and enjoy the beginning of Spring with us at Bennett’s!
URL:https://bennettsgreenhouse.com/event/spring-tangles-workshop/
END:VEVENT
BEGIN:VEVENT
DTSTART;TZID=America/New_York:20240414T130000
DTEND;TZID=America/New_York:20240414T150000
DTSTAMP:20260424T114634
CREATED:20240314T121424Z
LAST-MODIFIED:20240314T133410Z
UID:10000029-1713099600-1713106800@bennettsgreenhouse.com
SUMMARY:Art Workshop at Bennett’s: Spring-tanlges!
DESCRIPTION:Learn the art of Zentangle: an easy-to-learn\, relaxing\, and fun way to create beautiful pictures by drawing structured patterns. Kathleen Lee\, local Lafayette Artist\, will help you create your masterpiece. Included in the ticket price are light refreshments\, your own fine tip pen\, 5.5 x 8.5 sketchbook\, and complete mat set. You will also get an annual flowering plant included with the workshop. Come out and enjoy the beginning of Spring with us at Bennett’s!
URL:https://bennettsgreenhouse.com/event/art-workshop-at-bennetts-spring-tanlges/
CATEGORIES:Event
END:VEVENT
BEGIN:VEVENT
DTSTART;VALUE=DATE:20240323
DTEND;VALUE=DATE:20240324
DTSTAMP:20260424T114634
CREATED:20240307T091203Z
LAST-MODIFIED:20240307T091203Z
UID:10000021-1711152000-1711238399@bennettsgreenhouse.com
SUMMARY:Wedding Booked
DESCRIPTION:
URL:https://bennettsgreenhouse.com/event/wedding-booked-5/
CATEGORIES:Private Event
END:VEVENT
BEGIN:VEVENT
DTSTART;VALUE=DATE:20240323
DTEND;VALUE=DATE:20240324
DTSTAMP:20260424T114634
CREATED:20240228T191844Z
LAST-MODIFIED:20240228T191844Z
UID:10000009-1711152000-1711238399@bennettsgreenhouse.com
SUMMARY:Wedding Booked
DESCRIPTION:
URL:https://bennettsgreenhouse.com/event/wedding-booked/
CATEGORIES:Wedding
END:VEVENT
END:VCALENDAR