BEGIN:VCALENDAR
VERSION:2.0
PRODID:-//Bennett&#039;s Greenhouse - ECPv6.15.20//NONSGML v1.0//EN
CALSCALE:GREGORIAN
METHOD:PUBLISH
X-WR-CALNAME:Bennett&#039;s Greenhouse
X-ORIGINAL-URL:https://bennettsgreenhouse.com
X-WR-CALDESC:Events for Bennett&#039;s Greenhouse
REFRESH-INTERVAL;VALUE=DURATION:PT1H
X-Robots-Tag:noindex
X-PUBLISHED-TTL:PT1H
BEGIN:VTIMEZONE
TZID:America/New_York
BEGIN:DAYLIGHT
TZOFFSETFROM:-0500
TZOFFSETTO:-0400
TZNAME:EDT
DTSTART:20240310T070000
END:DAYLIGHT
BEGIN:STANDARD
TZOFFSETFROM:-0400
TZOFFSETTO:-0500
TZNAME:EST
DTSTART:20241103T060000
END:STANDARD
BEGIN:DAYLIGHT
TZOFFSETFROM:-0500
TZOFFSETTO:-0400
TZNAME:EDT
DTSTART:20250309T070000
END:DAYLIGHT
BEGIN:STANDARD
TZOFFSETFROM:-0400
TZOFFSETTO:-0500
TZNAME:EST
DTSTART:20251102T060000
END:STANDARD
BEGIN:DAYLIGHT
TZOFFSETFROM:-0500
TZOFFSETTO:-0400
TZNAME:EDT
DTSTART:20260308T070000
END:DAYLIGHT
BEGIN:STANDARD
TZOFFSETFROM:-0400
TZOFFSETTO:-0500
TZNAME:EST
DTSTART:20261101T060000
END:STANDARD
END:VTIMEZONE
BEGIN:VEVENT
DTSTART;TZID=America/New_York:20250727T120000
DTEND;TZID=America/New_York:20250727T170000
DTSTAMP:20260424T131349
CREATED:20250522T054341Z
LAST-MODIFIED:20250522T054857Z
UID:10000093-1753617600-1753635600@bennettsgreenhouse.com
SUMMARY:🌻 Aroma of Summer Market 🌻
DESCRIPTION:📍 Bennett’s Greenhouse | Hosted by 765 Markets \nCelebrate summer with us at our second annual Aroma of Summer Market — a fun-filled day of local shopping\, delicious eats\, and family-friendly entertainment! ☀️ \nFeaturing:\n🛍️ 50+ shopping vendors\n🍔 Food & drink vendors\n🎶 Live music\n👨‍👩‍👧‍👦 Family fun and more! \n🌻 Enjoy the sunshine while supporting local makers and small businesses in our beautiful outdoor venue. \n📅 Save the date: Sunday\, July 27th | 12–5 PM\n📍 Bennett’s Greenhouse: 3651 McCarty Lane\, Lafayette\, IN 47905 \nFollow @765Markets for vendor highlights and event updates. If you would like to become a vendor please email 765 Markets at 765.markets@gmail.com. \n🌻 We can’t wait to see you there! 🌻
URL:https://bennettsgreenhouse.com/event/%f0%9f%8c%bb-aroma-of-summer-market-%f0%9f%8c%bb/
LOCATION:Bennett’s Greenhouse\, 3651 McCarty Ln.\, Lafayette\, Indiana\, 47905
ATTACH;FMTTYPE=image/png:https://bennettsgreenhouse.com/wp-content/uploads/2025/05/Aroma-of-Summer-Market-2025-Flyer.png
END:VEVENT
END:VCALENDAR